BEGIN:VCALENDAR
VERSION:2.0
PRODID:icalendar-ruby
CALSCALE:GREGORIAN
METHOD:PUBLISH
BEGIN:VEVENT
DTSTAMP:20260423T082850Z
UID:7-272235@midlandparkunitedmethodistnc.org
DTSTART:20261101T190000Z
DTEND:20261101T200000Z
CLASS:PUBLIC
CREATED:20260422T201615
DESCRIPTION:
LAST-MODIFIED:20260422T201615
LOCATION:Midland Park UMC
SUMMARY:Sunday Worship
URL;VALUE=URI:https://midlandparkunitedmethodistnc.org/events/sunday-worshi
 p/2026-11-01
END:VEVENT
END:VCALENDAR
