BEGIN:VCALENDAR
VERSION:2.0
PRODID:icalendar-ruby
CALSCALE:GREGORIAN
METHOD:PUBLISH
BEGIN:VEVENT
DTSTAMP:20260420T230836Z
UID:7-270674@midlandparkunitedmethodistnc.org
DTSTART:20261025T180000Z
DTEND:20261025T190000Z
CLASS:PUBLIC
CREATED:20260420T154619
DESCRIPTION:
LAST-MODIFIED:20260420T154619
LOCATION:Midland Park UMC
SUMMARY:Sunday Worship
URL;VALUE=URI:https://midlandparkunitedmethodistnc.org/events/sunday-worshi
 p/2026-10-25
END:VEVENT
END:VCALENDAR
