BEGIN:VCALENDAR
VERSION:2.0
PRODID:icalendar-ruby
CALSCALE:GREGORIAN
METHOD:PUBLISH
BEGIN:VEVENT
DTSTAMP:20260420T214831Z
UID:7-270553@midlandparkunitedmethodistnc.org
DTSTART:20261018T180000Z
DTEND:20261018T190000Z
CLASS:PUBLIC
CREATED:20260420T131054
DESCRIPTION:
LAST-MODIFIED:20260420T131054
LOCATION:Midland Park UMC
SUMMARY:Sunday Worship
URL;VALUE=URI:https://midlandparkunitedmethodistnc.org/events/sunday-worshi
 p/2026-10-18
END:VEVENT
END:VCALENDAR
