BEGIN:VCALENDAR
VERSION:2.0
PRODID:icalendar-ruby
CALSCALE:GREGORIAN
METHOD:PUBLISH
BEGIN:VEVENT
DTSTAMP:20260420T202427Z
UID:7-270552@midlandparkunitedmethodistnc.org
DTSTART:20261011T180000Z
DTEND:20261011T190000Z
CLASS:PUBLIC
CREATED:20260420T131054
DESCRIPTION:
LAST-MODIFIED:20260420T131054
LOCATION:Midland Park UMC
SUMMARY:Sunday Worship
URL;VALUE=URI:https://midlandparkunitedmethodistnc.org/events/sunday-worshi
 p/2026-10-11
END:VEVENT
END:VCALENDAR
