BEGIN:VCALENDAR
VERSION:2.0
PRODID:icalendar-ruby
CALSCALE:GREGORIAN
METHOD:PUBLISH
BEGIN:VEVENT
DTSTAMP:20260424T184430Z
UID:6-273249@midlandparkunitedmethodistnc.org
DTSTART:20260920T164500Z
DTEND:20260920T174500Z
CLASS:PUBLIC
CREATED:20260424T112425
DESCRIPTION:
LAST-MODIFIED:20260424T112425
LOCATION:Midland Park UMC
SUMMARY:Church School
URL;VALUE=URI:https://midlandparkunitedmethodistnc.org/events/church-school
 /2026-09-20
ATTACH;FILENAME=church-pic-2.jpg;FMTTYPE=image/jpeg:https://dq5pwpg1q8ru0.c
 loudfront.net/2025/10/06/14/53/18/7f7031ba-c94d-4725-bda4-f3f7ef8d96d1/chu
 rch-pic-2.jpg
END:VEVENT
END:VCALENDAR
